BEGIN:VCALENDAR
VERSION:2.0
PRODID:-//Groovology - ECPv5.4.0//NONSGML v1.0//EN
CALSCALE:GREGORIAN
METHOD:PUBLISH
X-WR-CALNAME:Groovology
X-ORIGINAL-URL:https://www.groovology.com.au
X-WR-CALDESC:Events for Groovology
BEGIN:VTIMEZONE
TZID:UTC
BEGIN:STANDARD
TZOFFSETFROM:+0000
TZOFFSETTO:+0000
TZNAME:UTC
DTSTART:20190101T000000
END:STANDARD
END:VTIMEZONE
BEGIN:VEVENT
DTSTART;TZID=UTC:20191102T213000
DTEND;TZID=UTC:20191103T003000
DTSTAMP:20210225T220554
CREATED:20190902T193438Z
LAST-MODIFIED:20190902T193634Z
UID:8590-1572730200-1572741000@www.groovology.com.au
SUMMARY:Grooving with Groovology
DESCRIPTION:Grooving with Groovology at the Bankstown RSL Club.
URL:https://www.groovology.com.au/event/grooving-with-groovology-5/
LOCATION:Bankstown RSL\, 32 Kitchener Parade\,\, Bankstown\, NSW\, 2200\, Australia
CATEGORIES:Gigs
ATTACH;FMTTYPE=image/jpeg:https://groovology.com.au/wp-content/uploads/2018/08/Groovology2018.jpg
END:VEVENT
END:VCALENDAR