BEGIN:VCALENDAR
VERSION:2.0
PRODID:-//Groovology - ECPv5.4.0//NONSGML v1.0//EN
CALSCALE:GREGORIAN
METHOD:PUBLISH
X-WR-CALNAME:Groovology
X-ORIGINAL-URL:https://www.groovology.com.au
X-WR-CALDESC:Events for Groovology
BEGIN:VTIMEZONE
TZID:UTC
BEGIN:STANDARD
TZOFFSETFROM:+0000
TZOFFSETTO:+0000
TZNAME:UTC
DTSTART:20190101T000000
END:STANDARD
END:VTIMEZONE
BEGIN:VEVENT
DTSTART;TZID=UTC:20190720T203000
DTEND;TZID=UTC:20190720T203000
DTSTAMP:20210225T222144
CREATED:20190625T214830Z
LAST-MODIFIED:20190625T214927Z
UID:8549-1563654600-1563654600@www.groovology.com.au
SUMMARY:Groovolgists Party
DESCRIPTION:Groovy night for the Groovologists.
URL:https://www.groovology.com.au/event/groovolgists-party/
LOCATION:Revesby Workers Club\, 2B Brett St\, Revesby\, 2212\, Australia
CATEGORIES:Gigs
ATTACH;FMTTYPE=image/jpeg:https://groovology.com.au/wp-content/uploads/2018/08/Groovology2018.jpg
ORGANIZER;CN="Groovology":MAILTO:email@guitarstudio.com.au
END:VEVENT
END:VCALENDAR