BEGIN:VCALENDAR
VERSION:2.0
PRODID:-//Groovology - ECPv5.4.0//NONSGML v1.0//EN
CALSCALE:GREGORIAN
METHOD:PUBLISH
X-WR-CALNAME:Groovology
X-ORIGINAL-URL:https://www.groovology.com.au
X-WR-CALDESC:Events for Groovology
BEGIN:VTIMEZONE
TZID:UTC
BEGIN:STANDARD
TZOFFSETFROM:+0000
TZOFFSETTO:+0000
TZNAME:UTC
DTSTART:20190101T000000
END:STANDARD
END:VTIMEZONE
BEGIN:VEVENT
DTSTART;TZID=UTC:20190921T080000
DTEND;TZID=UTC:20190921T170000
DTSTAMP:20210225T220540
CREATED:20190718T103939Z
LAST-MODIFIED:20190718T104213Z
UID:8587-1569052800-1569085200@www.groovology.com.au
SUMMARY:Groovology Live
DESCRIPTION:Groovology Live at the St Mary’s Band Club.
URL:https://www.groovology.com.au/event/groovology-live/
LOCATION:St Marys Band Club\, St Marys\, NSW\, Australia
CATEGORIES:Gigs
ATTACH;FMTTYPE=image/jpeg:https://groovology.com.au/wp-content/uploads/2018/03/Groovology20182.jpg
ORGANIZER;CN="Groovology":MAILTO:email@guitarstudio.com.au
END:VEVENT
END:VCALENDAR