BEGIN:VCALENDAR
VERSION:2.0
PRODID:-//Groovology - ECPv5.4.0//NONSGML v1.0//EN
CALSCALE:GREGORIAN
METHOD:PUBLISH
X-WR-CALNAME:Groovology
X-ORIGINAL-URL:https://www.groovology.com.au
X-WR-CALDESC:Events for Groovology
BEGIN:VTIMEZONE
TZID:UTC
BEGIN:STANDARD
TZOFFSETFROM:+0000
TZOFFSETTO:+0000
TZNAME:UTC
DTSTART:20180101T000000
END:STANDARD
END:VTIMEZONE
BEGIN:VEVENT
DTSTART;TZID=UTC:20181201T203000
DTEND;TZID=UTC:20181202T003000
DTSTAMP:20210225T221951
CREATED:20180607T110930Z
LAST-MODIFIED:20180607T111057Z
UID:8401-1543696200-1543710600@www.groovology.com.au
SUMMARY:Groovy Night
DESCRIPTION:
URL:https://www.groovology.com.au/event/groovy-night-16/
LOCATION:Revesby Workers Club\, 2B Brett St\, Revesby\, 2212\, Australia
CATEGORIES:Gigs
END:VEVENT
END:VCALENDAR