BEGIN:VCALENDAR
VERSION:2.0
PRODID:-//Groovology - ECPv5.4.0//NONSGML v1.0//EN
CALSCALE:GREGORIAN
METHOD:PUBLISH
X-WR-CALNAME:Groovology
X-ORIGINAL-URL:https://www.groovology.com.au
X-WR-CALDESC:Events for Groovology
BEGIN:VTIMEZONE
TZID:UTC
BEGIN:STANDARD
TZOFFSETFROM:+0000
TZOFFSETTO:+0000
TZNAME:UTC
DTSTART:20190101T000000
END:STANDARD
END:VTIMEZONE
BEGIN:VEVENT
DTSTART;TZID=UTC:20190111T080000
DTEND;TZID=UTC:20190111T230000
DTSTAMP:20210225T222004
CREATED:20180814T112016Z
LAST-MODIFIED:20180814T112251Z
UID:8411-1547193600-1547247600@www.groovology.com.au
SUMMARY:Groovy Night
DESCRIPTION:Groovy night with Groovology at the Australian Brewery
URL:https://www.groovology.com.au/event/groovy-night-18/
LOCATION:The Australian Hotel & Brewery\, 350 Annangrove Rd\, Rouse Hill\, NSW\, 2155\, Australia
CATEGORIES:Gigs
END:VEVENT
END:VCALENDAR