BEGIN:VCALENDAR
VERSION:2.0
PRODID:-//Groovology - ECPv5.4.0//NONSGML v1.0//EN
CALSCALE:GREGORIAN
METHOD:PUBLISH
X-WR-CALNAME:Groovology
X-ORIGINAL-URL:https://www.groovology.com.au
X-WR-CALDESC:Events for Groovology
BEGIN:VTIMEZONE
TZID:UTC
BEGIN:STANDARD
TZOFFSETFROM:+0000
TZOFFSETTO:+0000
TZNAME:UTC
DTSTART:20190101T000000
END:STANDARD
END:VTIMEZONE
BEGIN:VEVENT
DTSTART;TZID=UTC:20190126T210000
DTEND;TZID=UTC:20190127T000000
DTSTAMP:20210225T222017
CREATED:20181106T014747Z
LAST-MODIFIED:20181106T014747Z
UID:8430-1548536400-1548547200@www.groovology.com.au
SUMMARY:Groovy Night
DESCRIPTION:Groovy Night with Groovology.
URL:https://www.groovology.com.au/event/groovy-night-21/
LOCATION:Oatley Hotel\, 8 Oatley Ave\, Oatley\, NSW\, 2223\, Australia
CATEGORIES:Gigs
END:VEVENT
END:VCALENDAR