BEGIN:VCALENDAR
VERSION:2.0
PRODID:-//Groovology - ECPv5.4.0//NONSGML v1.0//EN
CALSCALE:GREGORIAN
METHOD:PUBLISH
X-WR-CALNAME:Groovology
X-ORIGINAL-URL:https://www.groovology.com.au
X-WR-CALDESC:Events for Groovology
BEGIN:VTIMEZONE
TZID:UTC
BEGIN:STANDARD
TZOFFSETFROM:+0000
TZOFFSETTO:+0000
TZNAME:UTC
DTSTART:20190101T000000
END:STANDARD
END:VTIMEZONE
BEGIN:VEVENT
DTSTART;TZID=UTC:20190525T203000
DTEND;TZID=UTC:20190525T233000
DTSTAMP:20210225T222103
CREATED:20190501T093058Z
LAST-MODIFIED:20190501T093203Z
UID:8446-1558816200-1558827000@www.groovology.com.au
SUMMARY:Groovy Night
DESCRIPTION:Groovy Night with Groovology at the Cronulla RSL Club.
URL:https://www.groovology.com.au/event/groovy-night-22/
LOCATION:Cronulla RSL Club\, 38 Gerrale St\, Cronulla\, NSW\, 2230\, Australia
CATEGORIES:Gigs
ATTACH;FMTTYPE=image/jpeg:https://groovology.com.au/wp-content/uploads/2018/08/Groovology2018.jpg
ORGANIZER;CN="Groovology":MAILTO:email@guitarstudio.com.au
END:VEVENT
END:VCALENDAR