BEGIN:VCALENDAR
VERSION:2.0
PRODID:-//Groovology - ECPv5.4.0//NONSGML v1.0//EN
CALSCALE:GREGORIAN
METHOD:PUBLISH
X-WR-CALNAME:Groovology
X-ORIGINAL-URL:https://www.groovology.com.au
X-WR-CALDESC:Events for Groovology
BEGIN:VTIMEZONE
TZID:UTC
BEGIN:STANDARD
TZOFFSETFROM:+0000
TZOFFSETTO:+0000
TZNAME:UTC
DTSTART:20200101T000000
END:STANDARD
END:VTIMEZONE
BEGIN:VEVENT
DTSTART;TZID=UTC:20200307T201500
DTEND;TZID=UTC:20200307T231500
DTSTAMP:20210225T220824
CREATED:20191218T224348Z
LAST-MODIFIED:20191218T224955Z
UID:8599-1583612100-1583622900@www.groovology.com.au
SUMMARY:Groovy Night
DESCRIPTION:Groovy Night with Groovology at North Bondi RSL Club. \nGroovology is the Sydney Cover Band that plays old to new favourites.
URL:https://www.groovology.com.au/event/groovy-night-26/
LOCATION:North Bondi RSL Club\, 118-120 Ramsgate Ave\, North Bondi\, NSW\, 2026\, Australia
CATEGORIES:Gigs
ATTACH;FMTTYPE=image/jpeg:https://groovology.com.au/wp-content/uploads/2018/08/Groovology2018.jpg
END:VEVENT
END:VCALENDAR