BEGIN:VCALENDAR
VERSION:2.0
PRODID:-//Groovology - ECPv5.4.0//NONSGML v1.0//EN
CALSCALE:GREGORIAN
METHOD:PUBLISH
X-WR-CALNAME:Groovology
X-ORIGINAL-URL:https://www.groovology.com.au
X-WR-CALDESC:Events for Groovology
BEGIN:VTIMEZONE
TZID:UTC
BEGIN:STANDARD
TZOFFSETFROM:+0000
TZOFFSETTO:+0000
TZNAME:UTC
DTSTART:20200101T000000
END:STANDARD
END:VTIMEZONE
BEGIN:VEVENT
DTSTART;TZID=UTC:20200403T213000
DTEND;TZID=UTC:20200404T213000
DTSTAMP:20210225T220855
CREATED:20200310T003923Z
LAST-MODIFIED:20200323T042349Z
UID:8614-1585949400-1586035800@www.groovology.com.au
SUMMARY:Groovy Night
DESCRIPTION:WE REGRET\, THIS EVENT HAS BEEN CANCELLED DUE TO COVID-19. \nPlease stay well and hopefully we’ll see you soon.
URL:https://www.groovology.com.au/event/groovy-night-31/
LOCATION:Rooty Hill RSL Club\, 55 Sherbrooke St\, Rooty Hill\, NSW\, 2766\, Australia
CATEGORIES:Gigs
ATTACH;FMTTYPE=image/jpeg:https://groovology.com.au/wp-content/uploads/2020/03/Groovology-8.jpg
END:VEVENT
END:VCALENDAR