BEGIN:VCALENDAR
VERSION:2.0
PRODID:-//Groovology - ECPv5.4.0//NONSGML v1.0//EN
CALSCALE:GREGORIAN
METHOD:PUBLISH
X-WR-CALNAME:Groovology
X-ORIGINAL-URL:https://www.groovology.com.au
X-WR-CALDESC:Events for Groovology
BEGIN:VTIMEZONE
TZID:UTC
BEGIN:STANDARD
TZOFFSETFROM:+0000
TZOFFSETTO:+0000
TZNAME:UTC
DTSTART:20190101T000000
END:STANDARD
END:VTIMEZONE
BEGIN:VEVENT
DTSTART;TZID=UTC:20190215T093000
DTEND;TZID=UTC:20190216T123000
DTSTAMP:20210225T222035
CREATED:20181216T094644Z
LAST-MODIFIED:20181216T094947Z
UID:8433-1550223000-1550320200@www.groovology.com.au
SUMMARY:Groovy Night with Groovology
DESCRIPTION:
URL:https://www.groovology.com.au/event/groovy-night-with-groovology-2/
LOCATION:Bankstown RSL\, 32 Kitchener Parade\,\, Bankstown\, NSW\, 2200\, Australia
CATEGORIES:Gigs
ORGANIZER;CN="Groovology":MAILTO:email@guitarstudio.com.au
END:VEVENT
END:VCALENDAR